BEGIN:VCALENDAR
VERSION:2.0
PRODID:-//Herzschlag der Jugend - ECPv6.3.7//NONSGML v1.0//EN
CALSCALE:GREGORIAN
METHOD:PUBLISH
X-WR-CALNAME:Herzschlag der Jugend
X-ORIGINAL-URL:https://herzschlag-der-jugend.de
X-WR-CALDESC:Veranstaltungen für Herzschlag der Jugend
REFRESH-INTERVAL;VALUE=DURATION:PT1H
X-Robots-Tag:noindex
X-PUBLISHED-TTL:PT1H
BEGIN:VTIMEZONE
TZID:Europe/Berlin
BEGIN:DAYLIGHT
TZOFFSETFROM:+0100
TZOFFSETTO:+0200
TZNAME:CEST
DTSTART:20250330T010000
END:DAYLIGHT
BEGIN:STANDARD
TZOFFSETFROM:+0200
TZOFFSETTO:+0100
TZNAME:CET
DTSTART:20251026T010000
END:STANDARD
END:VTIMEZONE
BEGIN:VEVENT
DTSTART;TZID=Europe/Berlin:20250809T080000
DTEND;TZID=Europe/Berlin:20250809T170000
DTSTAMP:20260419T170256
CREATED:20250701T154610Z
LAST-MODIFIED:20250701T154941Z
UID:9773-1754726400-1754758800@herzschlag-der-jugend.de
SUMMARY:LBC Summertime Festival – Urban Dance & Culture Festival 2025
DESCRIPTION:1. Urbanes Hip-Hop Tanzfestival LBC Summertime 2025 (Fokus Förderung der jungen Hip-Hop Community in Süddeutschland)\nDatum:\n04.08.–09.08.2025\n(Hauptevent am 09. August im Kunstverein Wagenhalle\, Stuttgart) \nOrt:\nKunstverein Wagenhalle\, Innerer Nordbahnhof 1\, 70191 Stuttgart \nInhalt / Beschreibung:\nSei dabei\, wenn sich Stuttgart in eine Bühne für urbane Tanzkultur verwandelt!\nDas LBC Summertime Festival bringt vom 4. bis 9. August internationale Artists\, Crews und Tanzbegeisterte zusammen. Neben intensiven Battles und Workshops erwarten euch kulturelle Marktstände\, Musik\, Austauschformate und ein starker Community-Vibe. \nHighlight:\nHauptevent am 09.08. – internationale Battles\, DJs\, Live-Acts und mehr. \nTickets:\nTeilnehmer: 12 €\nZuschauer: 15 €\n→ Infos und Anmeldung via E-Mail oder Instagram oder hier. \nUnser Instagram. \nGefördert von der Baden-Württemberg Stiftung im Rahmen des Programms „Wir sind dabei! – Wertstätten der Demokratie“ \n          
URL:https://herzschlag-der-jugend.de/veranstaltungen/lbc-summertime-festival/
LOCATION:Kunstverein Wagenhalle\, Innerer Nordbahnhof 1\, Stuttgart\, 70191\, Germany
ATTACH;FMTTYPE=image/png:https://herzschlag-der-jugend.de/wp-content/uploads/2025/07/lbc-2025.png
END:VEVENT
BEGIN:VEVENT
DTSTART;VALUE=DATE:20250725
DTEND;VALUE=DATE:20250728
DTSTAMP:20260419T170256
CREATED:20250715T111251Z
LAST-MODIFIED:20250715T111807Z
UID:9812-1753401600-1753660799@herzschlag-der-jugend.de
SUMMARY:LBC Summertime in Stuttgart- Hip-Hop-Tanzfestival erobert die Stadt
DESCRIPTION:Party\, Austausch und Outdoor-Session auf dem Kleinen Schlossplatz: Das Urban Dance Festival „LBC Summertime“ dauert erstmals eine Woche und will sich in die Stadt öffnen. \nDas Festival\, das erst in Ludwigsburg\, dann auf dem Wizemann-Areal stattfand\, bleibt im Wandel. Statt sich auf zwei Tage mit Wettbewerben und Workshops zu beschränken\, baut Milyon Hagos den Szenetreff zum einwöchigen Festival aus; getanzt wird am 5. August von 16.30 bis 22 Uhr auch auf dem Kleinen Schlossplatz; zur Outdoor-Session werden internationale Gäste erwartet. „Wir wollten das Festival öffnen und so niedrigschwellig wie möglich halten“\, sagt Milyon Hagos. Eintritt erhoben werde deshalb nur am Haupttag\, wenn am 9. August in den Wagenhallen um 13.30 Uhr die Battles starten (Registrierung von 12 bis 13 Uhr\, die Finalrunden starten um 21 Uhr)\, sowie bei den Workshops\, die zum Abschluss am Sonntag im Mtv in Ludwigsburg stattfinden. \nEine der Partys steigt im Stadtpalais\nZum Kennenlernen und Austausch gibt es am 4. August von 16.30 bis 22 Uhr eine Eröffnungsveranstaltung im Waranga. Ebenfalls bei freiem Eintritt steigt am 6. August im Flint-Club in Ludwigsburg von 19 bis 2 Uhr die erste Party des Urban Dance Festivals; die zweite folgt am nächsten Abend von 19.30 bis 23 Uhr im Stadtpalais in Stuttgart mit den DJs Roxswift und Resident DJ Boogie G. \nTermine: \n\n25-27.07 Funkparty & Battle in Ludwigsburg\n04.10.07- Das Urban Dance Festival „LBC Summertime“ findet vom 4. bis zum 10. August statt. Zum Wettbewerb am 9. August werden im Kunstverein Wagenhalle internationale Teilnehmer und Jury-Mitglieder erwartet
URL:https://herzschlag-der-jugend.de/veranstaltungen/lbc-summertime-in-stuttgart-hip-hop-tanzfestival-erobert-die-stadt/
LOCATION:Ludwigsburg
ATTACH;FMTTYPE=image/jpeg:https://herzschlag-der-jugend.de/wp-content/uploads/2025/07/LBC-2025.jpg
END:VEVENT
END:VCALENDAR